Workbook

Sheet Лист1
A2: ПРОГНОЗ БАЛАНСА ТРУДОВЫХ РЕСУРСОВ | D2: МУНИЦИПАЛЬНОГО ОБРАЗОВАНИЯ
A3: ='[1]маятник миграция'!D4 -> ВЫСЕЛКОВСКИЙ РАЙОН
A4: (в среднегодовом исчислении)
D5: тыс.человек (с двумя знаками после запятой)
A6: № п/п | B6: Показатель | C6: Код строки | D6: 2019 г. | E6: 2020 г. | F6: 2021 г. | G6: Справочно
G7: 2018 г. | H7: 2017 г.
B8: ЧИСЛЕННОСТЬ ПОСТОЯННОГО НАСЕЛЕНИЯ, в том числе: | C8: 10 | D8: ='[1]Формир и распред ТР'!H7/1000 -> 59.262 | E8: ='[1]Формир и распред ТР'!I7/1000 -> 59.512 | F8: ='[1]Формир и распред ТР'!J7/1000 -> 59.825 | G8: ='[1]Формир и распред ТР'!G7/1000 -> 59.068 | H8: ='[1]Формир и распред ТР'!F7/1000 -> 59.103
B9: - городское | C9: 11 | D9: ='[1]Формир и распред ТР'!H8/1000 -> 0 | E9: ='[1]Формир и распред ТР'!I8/1000 -> 0 | F9: ='[1]Формир и распред ТР'!J8/1000 -> 0 | G9: ='[1]Формир и распред ТР'!G8/1000 -> 0 | H9: ='[1]Формир и распред ТР'!F8/1000 -> 0
B10: - сельское | C10: 12 | D10: ='[1]Формир и распред ТР'!H9/1000 -> 59.262 | E10: ='[1]Формир и распред ТР'!I9/1000 -> 59.512 | F10: ='[1]Формир и распред ТР'!J9/1000 -> 59.825 | G10: ='[1]Формир и распред ТР'!G9/1000 -> 59.068 | H10: ='[1]Формир и распред ТР'!F9/1000 -> 59.103
A11: I. | B11: ЧИСЛЕННОСТЬ ТРУДОВЫХ РЕСУРСОВ | C11: 100 | D11: ='[1]Формир и распред ТР'!H10/1000 -> 33.704 | E11: ='[1]Формир и распред ТР'!I10/1000 -> 33.727 | F11: ='[1]Формир и распред ТР'!J10/1000 -> 33.775 | G11: ='[1]Формир и распред ТР'!G10/1000 -> 33.687 | H11: ='[1]Формир и распред ТР'!F10/1000 -> 33.878
B12: Население в трудоспособном возрасте (мужчины в возрасте от 16 до 60 лет и женщины - от 16 до 55 лет) | C12: 110 | D12: ='[1]Формир и распред ТР'!H11/1000 -> 31.362 | E12: ='[1]Формир и распред ТР'!I11/1000 -> 31.365 | F12: ='[1]Формир и распред ТР'!J11/1000 -> 31.37 | G12: ='[1]Формир и распред ТР'!G11/1000 -> 31.359 | H12: ='[1]Формир и распред ТР'!F11/1000 -> 31.594
B13: - трудоспособное население в трудоспособном возрасте | C13: 111 | D13: ='[1]Формир и распред ТР'!H12/1000 -> 29.714 | E13: ='[1]Формир и распред ТР'!I12/1000 -> 29.726 | F13: ='[1]Формир и распред ТР'!J12/1000 -> 29.744 | G13: ='[1]Формир и распред ТР'!G12/1000 -> 29.703 | H13: ='[1]Формир и распред ТР'!F12/1000 -> 29.931
B14: - неработающие инвалиды трудоспособного возраста | C14: 112 | D14: ='[1]Формир и распред ТР'!H13/1000 -> 1.312 | E14: ='[1]Формир и распред ТР'!I13/1000 -> 1.309 | F14: ='[1]Формир и распред ТР'!J13/1000 -> 1.3 | G14: ='[1]Формир и распред ТР'!G13/1000 -> 1.317 | H14: ='[1]Формир и распред ТР'!F13/1000 -> 1.32
B15: - неработающие лица трудоспособного возраста, получающие пенсию на льготных условиях | C15: 113 | D15: ='[1]Формир и распред ТР'!H14/1000 -> 0.336 | E15: ='[1]Формир и распред ТР'!I14/1000 -> 0.33 | F15: ='[1]Формир и распред ТР'!J14/1000 -> 0.326 | G15: ='[1]Формир и распред ТР'!G14/1000 -> 0.339 | H15: ='[1]Формир и распред ТР'!F14/1000 -> 0.343
B16: Иностранные трудовые мигранты | C16: 120 | D16: ='[1]Формир и распред ТР'!H15/1000 -> 0.27 | E16: ='[1]Формир и распред ТР'!I15/1000 -> 0.27 | F16: ='[1]Формир и распред ТР'!J15/1000 -> 0.27 | G16: ='[1]Формир и распред ТР'!G15/1000 -> 0.27 | H16: ='[1]Формир и распред ТР'!F15/1000 -> 0.272
B17: Сальдо маятниковой трудовой миграции | C17: 130 | D17: ='[1]Формир и распред ТР'!H16/1000 -> 0.68 | E17: ='[1]Формир и распред ТР'!I16/1000 -> 0.68 | F17: ='[1]Формир и распред ТР'!J16/1000 -> 0.68 | G17: ='[1]Формир и распред ТР'!G16/1000 -> 0.678 | H17: ='[1]Формир и распред ТР'!F16/1000 -> 0.64
B18: Сальдо маятниковой миграции по численности учащихся | C18: 140 | D18: ='[1]Формир и распред ТР'!H17/1000 -> 0 | E18: ='[1]Формир и распред ТР'!I17/1000 -> 0 | F18: ='[1]Формир и распред ТР'!J17/1000 -> 0 | G18: ='[1]Формир и распред ТР'!G17/1000 -> 0 | H18: ='[1]Формир и распред ТР'!F17/1000 -> 0
B19: Работающие граждане, находящиеся за пределами трудоспособного возраста, в том числе: | C19: 150 | D19: ='[1]Формир и распред ТР'!H18/1000 -> 3.04 | E19: ='[1]Формир и распред ТР'!I18/1000 -> 3.051 | F19: ='[1]Формир и распред ТР'!J18/1000 -> 3.081 | G19: ='[1]Формир и распред ТР'!G18/1000 -> 3.036 | H19: ='[1]Формир и распред ТР'!F18/1000 -> 3.035
B20: - подростки моложе трудоспособного возраста | C20: 151 | D20: ='[1]Формир и распред ТР'!H19/1000 -> 0.03 | E20: ='[1]Формир и распред ТР'!I19/1000 -> 0.026 | F20: ='[1]Формир и распред ТР'!J19/1000 -> 0.021 | G20: ='[1]Формир и распред ТР'!G19/1000 -> 0.036 | H20: ='[1]Формир и распред ТР'!F19/1000 -> 0.041
B21: - пенсионеры старше трудоспособного возраста | C21: 152 | D21: ='[1]Формир и распред ТР'!H20/1000 -> 3.01 | E21: ='[1]Формир и распред ТР'!I20/1000 -> 3.025 | F21: ='[1]Формир и распред ТР'!J20/1000 -> 3.06 | G21: ='[1]Формир и распред ТР'!G20/1000 -> 3 | H21: ='[1]Формир и распред ТР'!F20/1000 -> 2.994
A22: II. | B22: РАСПРЕДЕЛЕНИЕ ТРУДОВЫХ РЕСУРСОВ | C22: 200 | D22: ='[1]Формир и распред ТР'!H21/1000 -> 33.704 | E22: ='[1]Формир и распред ТР'!I21/1000 -> 33.727 | F22: ='[1]Формир и распред ТР'!J21/1000 -> 33.775 | G22: ='[1]Формир и распред ТР'!G21/1000 -> 33.687 | H22: ='[1]Формир и распред ТР'!F21/1000 -> 33.878
B23: Численность занятых в экономике (без военнослужащих) | C23: 210 | D23: ='[1]Формир и распред ТР'!H22/1000 -> 27.54 | E23: ='[1]Формир и распред ТР'!I22/1000 -> 27.693 | F23: ='[1]Формир и распред ТР'!J22/1000 -> 27.768 | G23: ='[1]Формир и распред ТР'!G22/1000 -> 27.437 | H23: ='[1]Формир и распред ТР'!F22/1000 -> 27.112
B24: Численность населения, не занятого в экономике, в том числе: | C24: 220 | D24: ='[1]Формир и распред ТР'!H27/1000 -> 6.164 | E24: ='[1]Формир и распред ТР'!I27/1000 -> 6.034 | F24: ='[1]Формир и распред ТР'!J27/1000 -> 6.007 | G24: ='[1]Формир и распред ТР'!G27/1000 -> 6.25 | H24: ='[1]Формир и распред ТР'!F27/1000 -> 6.766
B25: - учащиеся в трудоспособном возрасте, обучающиеся c отрывом от работы | C25: 221 | D25: ='[1]Формир и распред ТР'!H28/1000 -> 0.465 | E25: ='[1]Формир и распред ТР'!I28/1000 -> 0.58 | F25: ='[1]Формир и распред ТР'!J28/1000 -> 0.655 | G25: ='[1]Формир и распред ТР'!G28/1000 -> 0.379 | H25: ='[1]Формир и распред ТР'!F28/1000 -> 0.34
B26: - численность безработных, зарегистрированных в органах службы занятости | C26: 222 | D26: ='[1]Формир и распред ТР'!H35/1000 -> 0.208 | E26: ='[1]Формир и распред ТР'!I35/1000 -> 0.211 | F26: ='[1]Формир и распред ТР'!J35/1000 -> 0.21 | G26: ='[1]Формир и распред ТР'!G35/1000 -> 0.199 | H26: ='[1]Формир и распред ТР'!F35/1000 -> 0.212
B27: - численность прочих категорий населения в трудоспособном возрасте, не занятых в экономике | C27: 223 | D27: ='[1]Формир и распред ТР'!H36/1000 -> 5.491 | E27: ='[1]Формир и распред ТР'!I36/1000 -> 5.243 | F27: ='[1]Формир и распред ТР'!J36/1000 -> 5.142 | G27: ='[1]Формир и распред ТР'!G36/1000 -> 5.672 | H27: ='[1]Формир и распред ТР'!F36/1000 -> 6.214
A28: III. | B28: РАСПРЕДЕЛЕНИЕ ЗАНЯТЫХ В ЭКОНОМИКЕ ПО ФОРМАМ СОБСТВЕННОСТИ: | C28: 300 | D28: ='[1]распред по ФС и ВЭД'!H8/1000 -> 27.54 | E28: ='[1]распред по ФС и ВЭД'!I8/1000 -> 27.693 | F28: ='[1]распред по ФС и ВЭД'!J8/1000 -> 27.768 | G28: ='[1]распред по ФС и ВЭД'!G8/1000 -> 27.437 | H28: ='[1]распред по ФС и ВЭД'!F8/1000 -> 27.112
B29: государственная и муниципальная | C29: 310 | D29: ='[1]распред по ФС и ВЭД'!H9/1000 -> 5.848 | E29: ='[1]распред по ФС и ВЭД'!I9/1000 -> 5.846 | F29: ='[1]распред по ФС и ВЭД'!J9/1000 -> 5.844 | G29: ='[1]распред по ФС и ВЭД'!G9/1000 -> 5.848 | H29: ='[1]распред по ФС и ВЭД'!F9/1000 -> 5.895
B30: смешанная российская | C30: 320 | D30: ='[1]распред по ФС и ВЭД'!H10/1000 -> 0 | E30: ='[1]распред по ФС и ВЭД'!I10/1000 -> 0 | F30: ='[1]распред по ФС и ВЭД'!J10/1000 -> 0 | G30: ='[1]распред по ФС и ВЭД'!G10/1000 -> 0 | H30: ='[1]распред по ФС и ВЭД'!F10/1000 -> 0.151
B31: иностранная, совместная российская и иностранная | C31: 330 | D31: ='[1]распред по ФС и ВЭД'!H11/1000 -> 0 | E31: ='[1]распред по ФС и ВЭД'!I11/1000 -> 0 | F31: ='[1]распред по ФС и ВЭД'!J11/1000 -> 0 | G31: ='[1]распред по ФС и ВЭД'!G11/1000 -> 0 | H31: ='[1]распред по ФС и ВЭД'!F11/1000 -> 0
B32: частная, в том числе занятых: | C32: 340 | D32: ='[1]распред по ФС и ВЭД'!H12/1000 -> 21.592 | E32: ='[1]распред по ФС и ВЭД'!I12/1000 -> 21.747 | F32: ='[1]распред по ФС и ВЭД'!J12/1000 -> 21.824 | G32: ='[1]распред по ФС и ВЭД'!G12/1000 -> 21.489 | H32: ='[1]распред по ФС и ВЭД'!F12/1000 -> 20.966
B33: - индивидуальным трудом и по найму у отдельных граждан, включая занятых в домашнем хозяйстве производством товаров и услуг для реализации (включая личное подсобное хозяйство) | C33: 341 | D33: ='[1]распред по ФС и ВЭД'!H13/1000 -> 7.745 | E33: ='[1]распред по ФС и ВЭД'!I13/1000 -> 7.888 | F33: ='[1]распред по ФС и ВЭД'!J13/1000 -> 7.963 | G33: ='[1]распред по ФС и ВЭД'!G13/1000 -> 7.657 | H33: ='[1]распред по ФС и ВЭД'!F13/1000 -> 7.542
B34: - на частных предприятиях | C34: 342 | D34: ='[1]распред по ФС и ВЭД'!H14/1000 -> 13.847 | E34: ='[1]распред по ФС и ВЭД'!I14/1000 -> 13.859 | F34: ='[1]распред по ФС и ВЭД'!J14/1000 -> 13.861 | G34: ='[1]распред по ФС и ВЭД'!G14/1000 -> 13.832 | H34: ='[1]распред по ФС и ВЭД'!F14/1000 -> 13.424
B35: собственность общественных и религиозных организаций (объединений) | C35: 350 | D35: ='[1]распред по ФС и ВЭД'!H15/1000 -> 0.1 | E35: ='[1]распред по ФС и ВЭД'!I15/1000 -> 0.1 | F35: ='[1]распред по ФС и ВЭД'!J15/1000 -> 0.1 | G35: ='[1]распред по ФС и ВЭД'!G15/1000 -> 0.1 | H35: ='[1]распред по ФС и ВЭД'!F15/1000 -> 0.1
A36: IV. | B36: РАСПРЕДЕЛЕНИЕ ЗАНЯТЫХ В ЭКОНОМИКЕ ПО РАЗДЕЛАМ ОКВЭД2: | C36: 400 | D36: ='[1]распред по ФС и ВЭД'!H16/1000 -> 27.54 | E36: ='[1]распред по ФС и ВЭД'!I16/1000 -> 27.693 | F36: ='[1]распред по ФС и ВЭД'!J16/1000 -> 27.768 | G36: ='[1]распред по ФС и ВЭД'!G16/1000 -> 27.437 | H36: ='[1]распред по ФС и ВЭД'!F16/1000 -> 27.112
B37: - сельское, лесное хозяйство, охота, рыболовство и рыбоводство | C37: 401 | D37: ='[1]распред по ФС и ВЭД'!H17/1000 -> 2.545 | E37: ='[1]распред по ФС и ВЭД'!I17/1000 -> 2.56 | F37: ='[1]распред по ФС и ВЭД'!J17/1000 -> 2.574 | G37: ='[1]распред по ФС и ВЭД'!G17/1000 -> 2.545 | H37: ='[1]распред по ФС и ВЭД'!F17/1000 -> 2.471
B38: - добыча полезных ископаемых | C38: 402 | D38: ='[1]распред по ФС и ВЭД'!H19/1000 -> 0 | E38: ='[1]распред по ФС и ВЭД'!I19/1000 -> 0 | F38: ='[1]распред по ФС и ВЭД'!J19/1000 -> 0 | G38: ='[1]распред по ФС и ВЭД'!G19/1000 -> 0 | H38: ='[1]распред по ФС и ВЭД'!F19/1000 -> 0
B39: - обрабатывающая промышленность | C39: 403 | D39: ='[1]распред по ФС и ВЭД'!H21/1000 -> 12.668 | E39: ='[1]распред по ФС и ВЭД'!I21/1000 -> 12.683 | F39: ='[1]распред по ФС и ВЭД'!J21/1000 -> 12.688 | G39: ='[1]распред по ФС и ВЭД'!G21/1000 -> 12.664 | H39: ='[1]распред по ФС и ВЭД'!F21/1000 -> 12.259
B40: - обеспечение электрической энергией, газом и паром; кондиционирование воздуха | C40: 404 | D40: ='[1]распред по ФС и ВЭД'!H23/1000 -> 0.283 | E40: ='[1]распред по ФС и ВЭД'!I23/1000 -> 0.283 | F40: ='[1]распред по ФС и ВЭД'!J23/1000 -> 0.283 | G40: ='[1]распред по ФС и ВЭД'!G23/1000 -> 0.283 | H40: ='[1]распред по ФС и ВЭД'!F23/1000 -> 0.283
B41: - водоснабжение; водоотведение, организация сбора и утилизации отходов, деятельность по ликвидации загрязнений | C41: 405 | D41: ='[1]распред по ФС и ВЭД'!H25/1000 -> 0.3 | E41: ='[1]распред по ФС и ВЭД'!I25/1000 -> 0.3 | F41: ='[1]распред по ФС и ВЭД'!J25/1000 -> 0.3 | G41: ='[1]распред по ФС и ВЭД'!G25/1000 -> 0.3 | H41: ='[1]распред по ФС и ВЭД'!F25/1000 -> 0.3
B42: - строительство | C42: 406 | D42: ='[1]распред по ФС и ВЭД'!H27/1000 -> 0.69 | E42: ='[1]распред по ФС и ВЭД'!I27/1000 -> 0.705 | F42: ='[1]распред по ФС и ВЭД'!J27/1000 -> 0.7 | G42: ='[1]распред по ФС и ВЭД'!G27/1000 -> 0.685 | H42: ='[1]распред по ФС и ВЭД'!F27/1000 -> 0.676
B43: - торговля оптовая и розничная; ремонт автотранспортных средств и мотоциклов | C43: 407 | D43: ='[1]распред по ФС и ВЭД'!H29/1000 -> 3.5 | E43: ='[1]распред по ФС и ВЭД'!I29/1000 -> 3.589 | F43: ='[1]распред по ФС и ВЭД'!J29/1000 -> 3.641 | G43: ='[1]распред по ФС и ВЭД'!G29/1000 -> 3.41 | H43: ='[1]распред по ФС и ВЭД'!F29/1000 -> 3.401
B44: - транспортировка и хранение | C44: 408 | D44: ='[1]распред по ФС и ВЭД'!H31/1000 -> 1.481 | E44: ='[1]распред по ФС и ВЭД'!I31/1000 -> 1.49 | F44: ='[1]распред по ФС и ВЭД'!J31/1000 -> 1.49 | G44: ='[1]распред по ФС и ВЭД'!G31/1000 -> 1.49 | H44: ='[1]распред по ФС и ВЭД'!F31/1000 -> 1.471
B45: - деятельность гостиниц и предприятий общественного питания | C45: 409 | D45: ='[1]распред по ФС и ВЭД'!H33/1000 -> 0.19 | E45: ='[1]распред по ФС и ВЭД'!I33/1000 -> 0.2 | F45: ='[1]распред по ФС и ВЭД'!J33/1000 -> 0.21 | G45: ='[1]распред по ФС и ВЭД'!G33/1000 -> 0.18 | H45: ='[1]распред по ФС и ВЭД'!F33/1000 -> 0.17
B46: - деятельность в области информации и связи | C46: 410 | D46: ='[1]распред по ФС и ВЭД'!H35/1000 -> 0.05 | E46: ='[1]распред по ФС и ВЭД'!I35/1000 -> 0.05 | F46: ='[1]распред по ФС и ВЭД'!J35/1000 -> 0.05 | G46: ='[1]распред по ФС и ВЭД'!G35/1000 -> 0.05 | H46: ='[1]распред по ФС и ВЭД'!F35/1000 -> 0.05
B47: - деятельность финансовая и страховая | C47: 411 | D47: ='[1]распред по ФС и ВЭД'!H37/1000 -> 0.045 | E47: ='[1]распред по ФС и ВЭД'!I37/1000 -> 0.045 | F47: ='[1]распред по ФС и ВЭД'!J37/1000 -> 0.045 | G47: ='[1]распред по ФС и ВЭД'!G37/1000 -> 0.045 | H47: ='[1]распред по ФС и ВЭД'!F37/1000 -> 0.045
B48: - деятельность по операциям с недвижимым имуществом | C48: 412 | D48: ='[1]распред по ФС и ВЭД'!H39/1000 -> 0.34 | E48: ='[1]распред по ФС и ВЭД'!I39/1000 -> 0.34 | F48: ='[1]распред по ФС и ВЭД'!J39/1000 -> 0.34 | G48: ='[1]распред по ФС и ВЭД'!G39/1000 -> 0.34 | H48: ='[1]распред по ФС и ВЭД'!F39/1000 -> 0.34
B49: - деятельность профессиональная, научная и техническая | C49: 413 | D49: ='[1]распред по ФС и ВЭД'!H41/1000 -> 0.197 | E49: ='[1]распред по ФС и ВЭД'!I41/1000 -> 0.197 | F49: ='[1]распред по ФС и ВЭД'!J41/1000 -> 0.197 | G49: ='[1]распред по ФС и ВЭД'!G41/1000 -> 0.197 | H49: ='[1]распред по ФС и ВЭД'!F41/1000 -> 0.197
B50: - деятельность административная и сопутствующие дополнительные услуги | C50: 414 | D50: ='[1]распред по ФС и ВЭД'!H43/1000 -> 0 | E50: ='[1]распред по ФС и ВЭД'!I43/1000 -> 0 | F50: ='[1]распред по ФС и ВЭД'!J43/1000 -> 0 | G50: ='[1]распред по ФС и ВЭД'!G43/1000 -> 0 | H50: ='[1]распред по ФС и ВЭД'!F43/1000 -> 0.073
B51: - государственное управление и обеспечение военной безопасности; социальное обеспечение | C51: 415 | D51: ='[1]распред по ФС и ВЭД'!H45/1000 -> 0.866 | E51: ='[1]распред по ФС и ВЭД'!I45/1000 -> 0.863 | F51: ='[1]распред по ФС и ВЭД'!J45/1000 -> 0.86 | G51: ='[1]распред по ФС и ВЭД'!G45/1000 -> 0.868 | H51: ='[1]распред по ФС и ВЭД'!F45/1000 -> 0.874
B52: - образование | C52: 416 | D52: ='[1]распред по ФС и ВЭД'!H47/1000 -> 1.805 | E52: ='[1]распред по ФС и ВЭД'!I47/1000 -> 1.808 | F52: ='[1]распред по ФС и ВЭД'!J47/1000 -> 1.81 | G52: ='[1]распред по ФС и ВЭД'!G47/1000 -> 1.8 | H52: ='[1]распред по ФС и ВЭД'!F47/1000 -> 1.796
B53: - деятельность в области здравоохранения и социальных услуг | C53: 417 | D53: ='[1]распред по ФС и ВЭД'!H49/1000 -> 2.299 | E53: ='[1]распред по ФС и ВЭД'!I49/1000 -> 2.299 | F53: ='[1]распред по ФС и ВЭД'!J49/1000 -> 2.299 | G53: ='[1]распред по ФС и ВЭД'!G49/1000 -> 2.299 | H53: ='[1]распред по ФС и ВЭД'!F49/1000 -> 2.27
B54: - деятельность в области культуры, спорта, организации досуга и развлечений | C54: 418 | D54: ='[1]распред по ФС и ВЭД'!H51/1000 -> 0.281 | E54: ='[1]распред по ФС и ВЭД'!I51/1000 -> 0.281 | F54: ='[1]распред по ФС и ВЭД'!J51/1000 -> 0.281 | G54: ='[1]распред по ФС и ВЭД'!G51/1000 -> 0.281 | H54: ='[1]распред по ФС и ВЭД'!F51/1000 -> 0.281
B55: - предоставление прочих видов услуг | C55: 419 | D55: ='[1]распред по ФС и ВЭД'!H53/1000 -> 0 | E55: ='[1]распред по ФС и ВЭД'!I53/1000 -> 0 | F55: ='[1]распред по ФС и ВЭД'!J53/1000 -> 0 | G55: ='[1]распред по ФС и ВЭД'!G53/1000 -> 0 | H55: ='[1]распред по ФС и ВЭД'!F53/1000 -> 0.155
B56: - деятельность домашних хозяйств как работодателей; недифференцированная деятельность частных домашних хозяйств по производству товаров и оказанию услуг для собственного потребления | C56: 420 | D56: ='[1]распред по ФС и ВЭД'!H55/1000 -> 0 | E56: ='[1]распред по ФС и ВЭД'!I55/1000 -> 0 | F56: ='[1]распред по ФС и ВЭД'!J55/1000 -> 0 | G56: ='[1]распред по ФС и ВЭД'!G55/1000 -> 0 | H56: ='[1]распред по ФС и ВЭД'!F55/1000 -> 0
B57: - деятельность экстерриториальных организаций и органов | C57: 421 | D57: ='[1]распред по ФС и ВЭД'!H57/1000 -> 0 | E57: ='[1]распред по ФС и ВЭД'!I57/1000 -> 0 | F57: ='[1]распред по ФС и ВЭД'!J57/1000 -> 0 | G57: ='[1]распред по ФС и ВЭД'!G57/1000 -> 0 | H57: ='[1]распред по ФС и ВЭД'!F57/1000 -> 0
A58: V. | B58: СПРАВОЧНО: | C58: 500
B59: Уровень регистрируемой безработицы в процентах от численности трудоспособного населения в трудоспособном возрасте | C59: 501 | D59: =[1]справочно!H8 -> 0.70000673 | E59: =[1]справочно!I8 -> 0.70981632 | F59: =[1]справочно!J8 -> 0.70602474 | G59: =[1]справочно!G8 -> 0.669966 | H59: =[1]справочно!F8 -> 0.70829575
B60: Численность безработных по методологии МОТ | C60: 502 | D60: =[1]справочно!H9/1000 -> 1.62 | E60: =[1]справочно!I9/1000 -> 1.615 | F60: =[1]справочно!J9/1000 -> 1.615 | G60: =[1]справочно!G9/1000 -> 1.623 | H60: =[1]справочно!F9/1000 -> 1.656
B61: Численность рабочей силы | C61: 503 | D61: =[1]справочно!H10/1000 -> 29.16 | E61: =[1]справочно!I10/1000 -> 29.308 | F61: =[1]справочно!J10/1000 -> 29.383 | G61: =[1]справочно!G10/1000 -> 29.06 | H61: =[1]справочно!F10/1000 -> 28.768
B62: Уровень безработицы по методологии МОТ в % к численности рабочей силы | C62: 504 | D62: =[1]справочно!H11 -> 5.5555556 | E62: =[1]справочно!I11 -> 5.5104408 | F62: =[1]справочно!J11 -> 5.4963755 | G62: =[1]справочно!G11 -> 5.5849966 | H62: =[1]справочно!F11 -> 5.756396
B63: Количество вновь введенных рабочих мест по крупным, средним и малым предприятиям за период, тыс. единиц | C63: 505 | D63: =[1]справочно!H12/1000 -> 0.015 | E63: =[1]справочно!I12/1000 -> 0.01 | F63: =[1]справочно!J12/1000 -> 0 | G63: =[1]справочно!G12/1000 -> 0.21 | H63: =[1]справочно!F12/1000 -> 0.043
B64: Количество ликвидированных рабочих мест по крупным, средним и малым предприятиям за период, тыс. единиц | C64: 506 | D64: =[1]справочно!H13/1000 -> 0.02 | E64: =[1]справочно!I13/1000 -> 0.02 | F64: =[1]справочно!J13/1000 -> 0.02 | G64: =[1]справочно!G13/1000 -> 0.052 | H64: =[1]справочно!F13/1000 -> 0.037

Sheet Лист2

Sheet Лист3
