Workbook

Sheet Лист1
A2: ПРОГНОЗ БАЛАНСА ТРУДОВЫХ РЕСУРСОВ | D2: МУНИЦИПАЛЬНОГО ОБРАЗОВАНИЯ
A3: ='[1]маятник миграция'!D4 -> ВЫСЕЛКОВСКИЙ РАЙОН
A4: (в среднегодовом исчислении)
D5: тыс.человек (с двумя знаками после запятой)
A6: № п/п | B6: Показатель | C6: Код строки | D6: 2019 г. | E6: 2020 г. | F6: 2021 г. | G6: Справочно
G7: 2018 г. | H7: 2017 г.
B8: ЧИСЛЕННОСТЬ ПОСТОЯННОГО НАСЕЛЕНИЯ, в том числе: | C8: 10 | D8: ='[1]Формир и распред ТР'!H7/1000 -> 59.262 | E8: ='[1]Формир и распред ТР'!I7/1000 -> 59.512 | F8: ='[1]Формир и распред ТР'!J7/1000 -> 59.825 | G8: ='[1]Формир и распред ТР'!G7/1000 -> 59.068 | H8: ='[1]Формир и распред ТР'!F7/1000 -> 59.103
B9: - городское | C9: 11 | D9: ='[1]Формир и распред ТР'!H8/1000 -> 0 | E9: ='[1]Формир и распред ТР'!I8/1000 -> 0 | F9: ='[1]Формир и распред ТР'!J8/1000 -> 0 | G9: ='[1]Формир и распред ТР'!G8/1000 -> 0 | H9: ='[1]Формир и распред ТР'!F8/1000 -> 0
B10: - сельское | C10: 12 | D10: ='[1]Формир и распред ТР'!H9/1000 -> 59.262 | E10: ='[1]Формир и распред ТР'!I9/1000 -> 59.512 | F10: ='[1]Формир и распред ТР'!J9/1000 -> 59.825 | G10: ='[1]Формир и распред ТР'!G9/1000 -> 59.068 | H10: ='[1]Формир и распред ТР'!F9/1000 -> 59.103
A11: I. | B11: ЧИСЛЕННОСТЬ ТРУДОВЫХ РЕСУРСОВ | C11: 100 | D11: ='[1]Формир и распред ТР'!H10/1000 -> 33.704 | E11: ='[1]Формир и распред ТР'!I10/1000 -> 33.727 | F11: ='[1]Формир и распред ТР'!J10/1000 -> 33.775 | G11: ='[1]Формир и распред ТР'!G10/1000 -> 33.687 | H11: ='[1]Формир и распред ТР'!F10/1000 -> 33.878
B12: Население в трудоспособном возрасте (мужчины в возрасте от 16 до 60 лет и женщины - от 16 до 55 лет) | C12: 110 | D12: ='[1]Формир и распред ТР'!H11/1000 -> 31.362 | E12: ='[1]Формир и распред ТР'!I11/1000 -> 31.365 | F12: ='[1]Формир и распред ТР'!J11/1000 -> 31.37 | G12: ='[1]Формир и распред ТР'!G11/1000 -> 31.359 | H12: ='[1]Формир и распред ТР'!F11/1000 -> 31.594
B13: - трудоспособное население в трудоспособном возрасте | C13: 111 | D13: ='[1]Формир и распред ТР'!H12/1000 -> 29.714 | E13: ='[1]Формир и распред ТР'!I12/1000 -> 29.726 | F13: ='[1]Формир и распред ТР'!J12/1000 -> 29.744 | G13: ='[1]Формир и распред ТР'!G12/1000 -> 29.703 | H13: ='[1]Формир и распред ТР'!F12/1000 -> 29.931
B14: - неработающие инвалиды трудоспособного возраста | C14: 112 | D14: ='[1]Формир и распред ТР'!H13/1000 -> 1.312 | E14: ='[1]Формир и распред ТР'!I13/1000 -> 1.309 | F14: ='[1]Формир и распред ТР'!J13/1000 -> 1.3 | G14: ='[1]Формир и распред ТР'!G13/1000 -> 1.317 | H14: ='[1]Формир и распред ТР'!F13/1000 -> 1.32
B15: - неработающие лица трудоспособного возраста, получающие пенсию на льготных условиях | C15: 113 | D15: ='[1]Формир и распред ТР'!H14/1000 -> 0.336 | E15: ='[1]Формир и распред ТР'!I14/1000 -> 0.33 | F15: ='[1]Формир и распред ТР'!J14/1000 -> 0.326 | G15: ='[1]Формир и распред ТР'!G14/1000 -> 0.339 | H15: ='[1]Формир и распред ТР'!F14/1000 -> 0.343
B16: Иностранные трудовые мигранты | C16: 120 | D16: ='[1]Формир и распред ТР'!H15/1000 -> 0.27 | E16: ='[1]Формир и распред ТР'!I15/1000 -> 0.27 | F16: ='[1]Формир и распред ТР'!J15/1000 -> 0.27 | G16: ='[1]Формир и распред ТР'!G15/1000 -> 0.27 | H16: ='[1]Формир и распред ТР'!F15/1000 -> 0.272
B17: Сальдо маятниковой трудовой миграции | C17: 130 | D17: ='[1]Формир и распред ТР'!H16/1000 -> 0.68 | E17: ='[1]Формир и распред ТР'!I16/1000 -> 0.68 | F17: ='[1]Формир и распред ТР'!J16/1000 -> 0.68 | G17: ='[1]Формир и распред ТР'!G16/1000 -> 0.678 | H17: ='[1]Формир и распред ТР'!F16/1000 -> 0.64
B18: Сальдо маятниковой миграции по численности учащихся | C18: 140 | D18: ='[1]Формир и распред ТР'!H17/1000 -> 0 | E18: ='[1]Формир и распред ТР'!I17/1000 -> 0 | F18: ='[1]Формир и распред ТР'!J17/1000 -> 0 | G18: ='[1]Формир и распред ТР'!G17/1000 -> 0 | H18: ='[1]Формир и распред ТР'!F17/1000 -> 0
B19: Работающие граждане, находящиеся за пределами трудоспособного возраста, в том числе: | C19: 150 | D19: ='[1]Формир и распред ТР'!H18/1000 -> 3.04 | E19: ='[1]Формир и распред ТР'!I18/1000 -> 3.051 | F19: ='[1]Формир и распред ТР'!J18/1000 -> 3.081 | G19: ='[1]Формир и распред ТР'!G18/1000 -> 3.036 | H19: ='[1]Формир и распред ТР'!F18/1000 -> 3.035
B20: - подростки моложе трудоспособного возраста | C20: 151 | D20: ='[1]Формир и распред ТР'!H19/1000 -> 0.03 | E20: ='[1]Формир и распред ТР'!I19/1000 -> 0.026 | F20: ='[1]Формир и распред ТР'!J19/1000 -> 0.021 | G20: ='[1]Формир и распред ТР'!G19/1000 -> 0.036 | H20: ='[1]Формир и распред ТР'!F19/1000 -> 0.041
B21: - пенсионеры старше трудоспособного возраста | C21: 152 | D21: ='[1]Формир и распред ТР'!H20/1000 -> 3.01 | E21: ='[1]Формир и распред ТР'!I20/1000 -> 3.025 | F21: ='[1]Формир и распред ТР'!J20/1000 -> 3.06 | G21: ='[1]Формир и распред ТР'!G20/1000 -> 3 | H21: ='[1]Формир и распред ТР'!F20/1000 -> 2.994
A22: II. | B22: РАСПРЕДЕЛЕНИЕ ТРУДОВЫХ РЕСУРСОВ | C22: 200 | D22: ='[1]Формир и распред ТР'!H21/1000 -> 33.704 | E22: ='[1]Формир и распред ТР'!I21/1000 -> 33.727 | F22: ='[1]Формир и распред ТР'!J21/1000 -> 33.775 | G22: ='[1]Формир и распред ТР'!G21/1000 -> 33.687 | H22: ='[1]Формир и распред ТР'!F21/1000 -> 33.878
B23: Численность занятых в экономике (без военнослужащих) | C23: 210 | D23: ='[1]Формир и распред ТР'!H22/1000 -> 27.54 | E23: ='[1]Формир и распред ТР'!I22/1000 -> 27.693 | F23: ='[1]Формир и распред ТР'!J22/1000 -> 27.768 | G23: ='[1]Формир и распред ТР'!G22/1000 -> 27.437 | H23: ='[1]Формир и распред ТР'!F22/1000 -> 27.112
B24: Численность населения, не занятого в экономике, в том числе: | C24: 220 | D24: ='[1]Формир и распред ТР'!H27/1000 -> 6.164 | E24: ='[1]Формир и распред ТР'!I27/1000 -> 6.034 | F24: ='[1]Формир и распред ТР'!J27/1000 -> 6.007 | G24: ='[1]Формир и распред ТР'!G27/1000 -> 6.25 | H24: ='[1]Формир и распред ТР'!F27/1000 -> 6.766
B25: - учащиеся в трудоспособном возрасте, обучающиеся c отрывом от работы | C25: 221 | D25: ='[1]Формир и распред ТР'!H28/1000 -> 0.465 | E25: ='[1]Формир и распред ТР'!I28/1000 -> 0.58 | F25: ='[1]Формир и распред ТР'!J28/1000 -> 0.655 | G25: ='[1]Формир и распред ТР'!G28/1000 -> 0.379 | H25: ='[1]Формир и распред ТР'!F28/1000 -> 0.34
B26: - численность безработных, зарегистрированных в органах службы занятости | C26: 222 | D26: ='[1]Формир и распред ТР'!H35/1000 -> 0.208 | E26: ='[1]Формир и распред ТР'!I35/1000 -> 0.211 | F26: ='[1]Формир и распред ТР'!J35/1000 -> 0.21 | G26: ='[1]Формир и распред ТР'!G35/1000 -> 0.199 | H26: ='[1]Формир и распред ТР'!F35/1000 -> 0.212
B27: - численность прочих категорий населения в трудоспособном возрасте, не занятых в экономике | C27: 223 | D27: ='[1]Формир и распред ТР'!H36/1000 -> 5.491 | E27: ='[1]Формир и распред ТР'!I36/1000 -> 5.243 | F27: ='[1]Формир и распред ТР'!J36/1000 -> 5.142 | G27: ='[1]Формир и распред ТР'!G36/1000 -> 5.672 | H27: ='[1]Формир и распред ТР'!F36/1000 -> 6.214
A28: III. | B28: РАСПРЕДЕЛЕНИЕ ЗАНЯТЫХ В ЭКОНОМИКЕ ПО ФОРМАМ СОБСТВЕННОСТИ: | C28: 300 | D28: ='[1]распред по ФС и ВЭД'!H8/1000 -> 27.54 | E28: ='[1]распред по ФС и ВЭД'!I8/1000 -> 27.693 | F28: ='[1]распред по ФС и ВЭД'!J8/1000 -> 27.768 | G28: ='[1]распред по ФС и ВЭД'!G8/1000 -> 27.437 | H28: ='[1]распред по ФС и ВЭД'!F8/1000 -> 27.112
B29: государственная и муниципальная | C29: 310 | D29: ='[1]распред по ФС и ВЭД'!H9/1000 -> 5.848 | E29: ='[1]распред по ФС и ВЭД'!I9/1000 -> 5.846 | F29: ='[1]распред по ФС и ВЭД'!J9/1000 -> 5.844 | G29: ='[1]распред по ФС и ВЭД'!G9/1000 -> 5.848 | H29: ='[1]распред по ФС и ВЭД'!F9/1000 -> 5.895
B30: смешанная российская | C30: 320 | D30: ='[1]распред по ФС и ВЭД'!H10/1000 -> 0 | E30: ='[1]распред по ФС и ВЭД'!I10/1000 -> 0 | F30: ='[1]распред по ФС и ВЭД'!J10/1000 -> 0 | G30: ='[1]распред по ФС и ВЭД'!G10/1000 -> 0 | H30: ='[1]распред по ФС и ВЭД'!F10/1000 -> 0.151
B31: иностранная, совместная российская и иностранная | C31: 330 | D31: ='[1]распред по ФС и ВЭД'!H11/1000 -> 0 | E31: ='[1]распред по ФС и ВЭД'!I11/1000 -> 0 | F31: ='[1]распред по ФС и ВЭД'!J11/1000 -> 0 | G31: ='[1]распред по ФС и ВЭД'!G11/1000 -> 0 | H31: ='[1]распред по ФС и ВЭД'!F11/1000 -> 0
B32: частная, в том числе занятых: | C32: 340 | D32: ='[1]распред по ФС и ВЭД'!H12/1000 -> 21.592 | E32: ='[1]распред по ФС и ВЭД'!I12/1000 -> 21.747 | F32: ='[1]распред по ФС и ВЭД'!J12/1000 -> 21.824 | G32: ='[1]распред по ФС и ВЭД'!G12/1000 -> 21.489 | H32: ='[1]распред по ФС и ВЭД'!F12/1000 -> 20.966
B33: - индивидуальным трудом и по найму у отдельных граждан, включая занятых в домашнем хозяйстве производством товаров и услуг для реализации (включая личное подсобное хозяйство) | C33: 341 | D33: ='[1]распред по ФС и ВЭД'!H13/1000 -> 7.745 | E33: ='[1]распред по ФС и ВЭД'!I13/1000 -> 7.888 | F33: ='[1]распред по ФС и ВЭД'!J13/1000 -> 7.963 | G33: ='[1]распред по ФС и ВЭД'!G13/1000 -> 7.657 | H33: ='[1]распред по ФС и ВЭД'!F13/1000 -> 7.542
B34: - на частных предприятиях | C34: 342 | D34: ='[1]распред по ФС и ВЭД'!H14/1000 -> 13.847 | E34: ='[1]распред по ФС и ВЭД'!I14/1000 -> 13.859 | F34: ='[1]распред по ФС и ВЭД'!J14/1000 -> 13.861 | G34: ='[1]распред по ФС и ВЭД'!G14/1000 -> 13.832 | H34: ='[1]распред по ФС и ВЭД'!F14/1000 -> 13.424
B35: собственность общественных и религиозных организаций (объединений) | C35: 350 | D35: ='[1]распред по ФС и ВЭД'!H15/1000 -> 0.1 | E35: ='[1]распред по ФС и ВЭД'!I15/1000 -> 0.1 | F35: ='[1]распред по ФС и ВЭД'!J15/1000 -> 0.1 | G35: ='[1]распред по ФС и ВЭД'!G15/1000 -> 0.1 | H35: ='[1]распред по ФС и ВЭД'!F15/1000 -> 0.1
A36: IV. | B36: РАСПРЕДЕЛЕНИЕ ЗАНЯТЫХ В ЭКОНОМИКЕ ПО РАЗДЕЛАМ ОКВЭД2: | C36: 400 | D36: ='[1]распред по ФС и ВЭД'!H16/1000 -> 27.54 | E36: ='[1]распред по ФС и ВЭД'!I16/1000 -> 27.693 | F36: ='[1]распред по ФС и ВЭД'!J16/1000 -> 27.768 | G36: ='[1]распред по ФС и ВЭД'!G16/1000 -> 27.437 | H36: ='[1]распред по ФС и ВЭД'!F16/1000 -> 27.112
B37: - сельское, лесное хозяйство, охота, рыболовство и рыбоводство | C37: 401 | D37: ='[1]распред по ФС и ВЭД'!H17/1000 -> 2.545 | E37: ='[1]распред по ФС и ВЭД'!I17/1000 -> 2.56 | F37: ='[1]распред по ФС и ВЭД'!J17/1000 -> 2.574 | G37: ='[1]распред по ФС и ВЭД'!G17/1000 -> 2.545 | H37: ='[1]распред по ФС и ВЭД'!F17/1000 -> 2.471
B38: - добыча полезных ископаемых | C38: 402 | D38: ='[1]распред по ФС и ВЭД'!H19/1000 -> 0 | E38: ='[1]распред по ФС и ВЭД'!I19/1000 -> 0 | F38: ='[1]распред по ФС и ВЭД'!J19/1000 -> 0 | G38: ='[1]распред по ФС и ВЭД'!G19/1000 -> 0 | H38: ='[1]распред по ФС и ВЭД'!F19/1000 -> 0
B39: - обрабатывающая промышленность | C39: 403 | D39: ='[1]распред по ФС и ВЭД'!H21/1000 -> 12.668 | E39: ='[1]распред по ФС и ВЭД'!I21/1000 -> 12.683 | F39: ='[1]распред по ФС и ВЭД'!J21/1000 -> 12.688 | G39: ='[1]распред по ФС и ВЭД'!G21/1000 -> 12.664 | H39: ='[1]распред по ФС и ВЭД'!F21/1000 -> 12.259
B40: - обеспечение электрической энергией, газом и паром; кондиционирование воздуха | C40: 404 | D40: ='[1]распред по ФС и ВЭД'!H23/1000 -> 0.283 | E40: ='[1]распред по ФС и ВЭД'!I23/1000 -> 0.283 | F40: ='[1]распред по ФС и ВЭД'!J23/1000 -> 0.283 | G40: ='[1]распред по ФС и ВЭД'!G23/1000 -> 0.283 | H40: ='[1]распред по ФС и ВЭД'!F23/1000 -> 0.283
B41: - водоснабжение; водоотведение, организация сбора и утилизации отходов, деятельность по ликвидации загрязнений | C41: 405 | D41: ='[1]распред по ФС и ВЭД'!H25/1000 -> 0.3 | E41: ='[1]распред по ФС и ВЭД'!I25/1000 -> 0.3 | F41: ='[1]распред по ФС и ВЭД'!J25/1000 -> 0.3 | G41: ='[1]распред по ФС и ВЭД'!G25/1000 -> 0.3 | H41: ='[1]распред по ФС и ВЭД'!F25/1000 -> 0.3
...

Sheet Лист2

Sheet Лист3
