Workbook

Sheet Таблица 5 птица
Q1: Приложение №7
A2: Оценка выполнения показателей запланированных на 2018 год, по численности поголовья птицы хозяйствами всех категорий, в том числе личными подсобными хозяйствами, КФХ и ИП по муниципальному образованию Выселковский район
A3: ='Таблица 6 картофель'!$A$3 -> 01.10.2018г. | Q3: (тыс. гол.)
A4: Наименование городского округа и муниципального района | B4: Все категории хозяйств | F4: в том числе | R4: Причины не исполнения прогноза
F5: Сельхозпредприятия | J5: ЛПХ | N5: КФХ и ИП
B6: 2018 год прогноз | C6: Факт за отчетный период | D6: % выпол-нения | E6: Темп роста к соответствующему периоду предыдущего года, % | F6: 2018 год прогноз | G6: Факт за отчетный период | H6: % выпол-нения | I6: Темп роста к соответствующему периоду предыдущего года, % | J6: 2018 год прогноз | K6: Факт за отчетный период | L6: % выпол-нения | M6: Темп роста к соответствующему периоду предыдущего года, % | N6: 2018 год прогноз | O6: Факт за отчетный период | P6: % выпол-нения | Q6: Темп роста к соответствующему периоду предыдущего года, %
A7: Выселковский | B7: =SUM(F7+J7+N7) -> 1749.47 | C7: =SUM(G7+K7+O7) -> 1774.278 | D7: =C7/B7*100 -> 101.41803 | E7: 103.1 | F7: 1598.3 | G7: 1647.1 | H7: =G7/F7*100 -> 103.05324 | I7: 102.8 | J7: 122.02 | K7: 98.053 | L7: =K7/J7*100 -> 80.358138 | M7: 83.2 | N7: 29.15 | O7: 29.125 | P7: =O7/N7*100 -> 99.914237 | Q7: 207.8

Sheet Таблица 5 овцы козы
Q1: Приложение №7
A2: Оценка выполнения показателей запланированных на 2018 год, по численности поголовья овец и коз хозяйствами всех категорий, в том числе личными подсобными хозяйствами, КФХ и ИП по муниципальному образованию Выселковский район
A3: ='Таблица 6 картофель'!$A$3 -> 01.10.2018г. | Q3: (гол.)
A4: Наименование городского округа и муниципального района | B4: Все категории хозяйств | F4: в том числе | R4: Причины не исполнения прогноза
F5: Сельхозпредприятия | J5: ЛПХ | N5: КФХ и ИП
B6: 2018 год прогноз | C6: Факт за отчетный период | D6: % выпол-нения | E6: Темп роста к соответствующему периоду предыдущего года, % | F6: 2018 год прогноз | G6: Факт за отчетный период | H6: % выпол-нения | I6: Темп роста к соответствующему периоду предыдущего года, % | J6: 2018 год прогноз | K6: Факт за отчетный период | L6: % выпол-нения | M6: Темп роста к соответствующему периоду предыдущего года, % | N6: 2018 год прогноз | O6: Факт за отчетный период | P6: % выпол-нения | Q6: Темп роста к соответствующему периоду предыдущего года, %
A7: Выселковский | B7: =SUM(F7+J7+N7) -> 3996 | C7: =SUM(G7+K7+O7) -> 3224 | D7: =C7/B7*100 -> 80.680681 | E7: 84.8 | F7: 230 | G7: 157 | H7: =G7/F7*100 -> 68.26087 | I7: 66 | J7: 2816 | K7: 2431 | L7: =K7/J7*100 -> 86.328125 | M7: 92.7 | N7: 950 | O7: 636 | P7: =O7/N7*100 -> 66.947368 | Q7: 67.5

Sheet Таблица 5 свиней
Q1: Приложение №7
A2: Оценка выполнения показателей запланированных на 2018 год, по численности поголовья свиней хозяйствами всех категорий, в том числе личными подсобными хозяйствами, КФХ и ИП по муниципальному образованию Выселковский район
A3: ='Таблица 6 картофель'!$A$3 -> 01.10.2018г. | Q3: (тыс. тонн)
A4: Наименование городского округа и муниципального района | B4: Все категории хозяйств | F4: в том числе | R4: Причины не исполнения прогноза
F5: Сельхозпредприятия | J5: ЛПХ | N5: КФХ и ИП
B6: 2018 год прогноз | C6: Факт за отчетный период | D6: % выпол-нения | E6: Темп роста к соответствующему периоду предыдущего года, % | F6: 2018 год прогноз | G6: Факт за отчетный период | H6: % выпол-нения | I6: Темп роста к соответствующему периоду предыдущего года, % | J6: 2018 год прогноз | K6: Факт за отчетный период | L6: % выпол-нения | M6: Темп роста к соответствующему периоду предыдущего года, % | N6: 2018 год прогноз | O6: Факт за отчетный период | P6: % выпол-нения | Q6: Темп роста к соответствующему периоду предыдущего года, %
A7: Выселковский | B7: =SUM(F7+J7+N7) -> 65880 | C7: =SUM(G7+K7+O7) -> 70298 | D7: =C7/B7*100 -> 106.70613 | E7: 96.8 | F7: 65610 | G7: 70013 | H7: =G7/F7*100 -> 106.71087 | I7: 96.8 | J7: 0 | K7: 23 | L7: =K7/J7*100 -> #DIV/0! | M7: 121 | N7: 270 | O7: 262 | P7: =O7/N7*100 -> 97.037037 | Q7: 97.8

Sheet Таблица 5 коров
Q1: Приложение №7
A2: Оценка выполнения показателей запланированных на 2018 год, по численности поголовья коров хозяйствами всех категорий, в том числе личными подсобными хозяйствами, КФХ и ИП по муниципальному образованию Выселковский район
A3: ='Таблица 6 картофель'!$A$3 -> 01.10.2018г. | Q3: (тыс. тонн)
A4: Наименование городского округа и муниципального района | B4: Все категории хозяйств | F4: в том числе | R4: Причины не исполнения прогноза
F5: Сельхозпредприятия | J5: ЛПХ | N5: КФХ и ИП
B6: 2018 год прогноз | C6: Факт за отчетный период | D6: % выпол-нения | E6: Темп роста к соответствующему периоду предыдущего года, % | F6: 2018 год прогноз | G6: Факт за отчетный период | H6: % выпол-нения | I6: Темп роста к соответствующему периоду предыдущего года, % | J6: 201 год прогноз | K6: Факт за отчетный период | L6: % выпол-нения | M6: Темп роста к соответствующему периоду предыдущего года, % | N6: 2018 год прогноз | O6: Факт за отчетный период | P6: % выпол-нения | Q6: Темп роста к соответствующему периоду предыдущего года, %
A7: Выселковский | B7: =SUM(F7+J7+N7) -> 11560 | C7: 12191 | D7: =C7/B7*100 -> 105.45848 | E7: 107.4 | F7: 10850 | G7: 11460 | H7: =G7/F7*100 -> 105.62212 | I7: 107.5 | J7: 693 | K7: 704 | L7: =K7/J7*100 -> 101.5873 | M7: 104.8 | N7: 17 | O7: 27 | P7: =O7/N7*100 -> 158.82353 | Q7: 158.8
E8: ,

Sheet Таблица 5 КРС
Q1: Приложение №7
A2: Оценка выполнения показателей запланированных на 2018 год, по численности поголовья крупного рогатого скота хозяйствами всех категорий, в том числе личными подсобными хозяйствами, КФХ и ИП по муниципальному образованию Выселковский район
A3: ='Таблица 6 картофель'!$A$3 -> 01.10.2018г. | Q3: (тыс. тонн)
A4: Наименование городского округа и муниципального района | B4: Все категории хозяйств | F4: в том числе | R4: Причины не исполнения прогноза
F5: Сельхозпредприятия | J5: ЛПХ | N5: КФХ и ИП
B6: 2018 год прогноз | C6: Факт за отчетный период | D6: % выпол-нения | E6: Темп роста к соответствующему периоду предыдущего года, % | F6: 2018 год прогноз | G6: Факт за отчетный период | H6: % выпол-нения | I6: Темп роста к соответствующему периоду предыдущего года, % | J6: 2018 год прогноз | K6: Факт за отчетный период | L6: % выпол-нения | M6: Темп роста к соответствующему периоду предыдущего года, % | N6: 2018 год прогноз | O6: Факт за отчетный период | P6: % выпол-нения | Q6: Темп роста к соответствующему периоду предыдущего года, %
A7: Выселковский | B7: =SUM(F7+J7+N7) -> 38837 | C7: =SUM(G7+K7+O7) -> 37373 | D7: =C7/B7*100 -> 96.230399 | E7: 98.5 | F7: 35192 | G7: 33707 | H7: =G7/F7*100 -> 95.780291 | I7: 98.2 | J7: 3400 | K7: 3430 | L7: =K7/J7*100 -> 100.88235 | M7: 104.2 | N7: 245 | O7: 236 | P7: =O7/N7*100 -> 96.326531 | Q7: 69.2

Sheet Таблица 5 молоко
Q1: Приложение №5
A2: Оценка выполнения показателей запланированных на 2018 год, по производству молока хозяйствами всех категорий, в том числе личными подсобными хозяйствами, КФХ и ИП по муниципальному образованию Выселковский район
A3: ='Таблица 6 картофель'!$A$3 -> 01.10.2018г. | Q3: (тыс. тонн)
A4: Наименование городского округа и муниципального района | B4: Все категории хозяйств | F4: в том числе | R4: Причины не исполнения прогноза
F5: Сельхозпредприятия | J5: ЛПХ | N5: КФХ и ИП
B6: 2018 год прогноз | C6: Факт за отчетный период | D6: % выпол-нения | E6: Темп роста к соответствующему периоду предыдущего года, % | F6: 2018 год прогноз | G6: Факт за отчетный период | H6: % выпол-нения | I6: Темп роста к соответствующему периоду предыдущего года, % | J6: 2018 год прогноз | K6: Факт за отчетный период | L6: % выпол-нения | M6: Темп роста к соответствующему периоду предыдущего года, % | N6: 2018 год прогноз | O6: Факт за отчетный период | P6: % выпол-нения | Q6: Темп роста к соответствующему периоду предыдущего года, %
A7: Выселковский | B7: =SUM(F7+J7+N7) -> 84.4 | C7: =SUM(G7+K7+O7) -> 74.083 | D7: =C7/B7*100 -> 87.776066 | E7: 113.9 | F7: 80.82 | G7: 70.702 | H7: =G7/F7*100 -> 87.480822 | I7: 115.2 | J7: 3.5 | K7: 3.22 | L7: 92 | M7: 90 | N7: 0.08 | O7: 0.161 | P7: =O7/N7*100 -> 201.25 | Q7: 150.5

Sheet Таблица 5 скот и птица
Q1: Приложение №5
A2: Оценка выполнения показателей запланированных на 2018 год, по производству скота и птицы (в живом весе) хозяйствами всех категорий, в том числе личными подсобными хозяйствами, КФХ и ИП по муниципальному образованию Выселковский район
A3: ='Таблица 6 картофель'!$A$3 -> 01.10.2018г. | Q3: (тыс. тонн)
A4: Наименование городского округа и муниципального района | B4: Все категории хозяйств | F4: в том числе | R4: Причины не исполнения прогноза
F5: Сельхозпредприятия | J5: ЛПХ | N5: КФХ и ИП
B6: 2018 год прогноз | C6: Факт за отчетный период | D6: % выпол-нения | E6: Темп роста к соответствующему периоду предыдущего года, % | F6: 2018 год прогноз | G6: Факт за отчетный период | H6: % выпол-нения | I6: Темп роста к соответствующему периоду предыдущего года, % | J6: 2018 год прогноз | K6: Факт за отчетный период | L6: % выпол-нения | M6: Темп роста к соответствующему периоду предыдущего года, % | N6: 2018 год прогноз | O6: Факт за отчетный период | P6: % выпол-нения | Q6: Темп роста к соответствующему периоду предыдущего года, %
A7: Выселковский | B7: =SUM(F7+J7+N7) -> 30.497 | C7: =SUM(G7+K7+O7) -> 24.228 | D7: =C7/B7*100 -> 79.44388 | E7: 100.2 | F7: 26.475 | G7: 21.297 | H7: =G7/F7*100 -> 80.441926 | I7: 99.7 | J7: 3.757 | K7: 2.814 | L7: =K7/J7*100 -> 74.900186 | M7: 103.5 | N7: 0.265 | O7: 0.117 | P7: =O7/N7*100 -> 44.150943 | Q7: 136

Sheet Таблица 5 овощи
Q1: Приложение №5
A2: Оценка выполнения показателей запланированных на 2018 год, по производству овощей хозяйствами всех категорий, в том числе личными подсобными хозяйствами, КФХ и ИП по муниципальному образованию Выселковский район
A3: ='Таблица 6 картофель'!$A$3 -> 01.10.2018г. | Q3: (тыс. тонн)
A4: Наименование городского округа и муниципального района | B4: Все категории хозяйств | F4: в том числе | R4: Причины не исполнения прогноза
F5: Сельхозпредприятия | J5: ЛПХ | N5: КФХ и ИП
B6: 2018 год прогноз | C6: Факт за отчетный период | D6: % выпол-нения | E6: Темп роста к соответствующему периоду предыдущего года, % | F6: 2018 год прогноз | G6: Факт за отчетный период | H6: % выпол-нения | I6: Темп роста к соответствующему периоду предыдущего года, % | J6: 2018 год прогноз | K6: Факт за отчетный период | L6: % выпол-нения | M6: Темп роста к соответствующему периоду предыдущего года, % | N6: 2018 год прогноз | O6: Факт за отчетный период | P6: % выпол-нения | Q6: Темп роста к соответствующему периоду предыдущего года, %
A7: Выселковский | B7: =SUM(F7+J7+N7) -> 23.5 | C7: 19.156 | D7: =C7/B7*100 -> 81.514894 | E7: 83.4 | F7: 4.2 | G7: 4.14 | H7: =G7/F7*100 -> 98.571429 | I7: 86.5 | J7: 11.2 | K7: 8.015 | L7: =K7/J7*100 -> 71.5625 | M7: 73.3 | N7: 8.1 | O7: 7 | P7: =O7/N7*100 -> 86.419753 | Q7: 96.6

Sheet Таблица 6 картофель
Q1: Приложение № 6
A2: Оценка выполнения показателей, запланированных на 2018 год, по производству картофеля хозяйствами всех категорий, в том числе личными подсобными хозяйствами, КФХ и ИП по муниципальному образованию Выселковский район
A3: 01.10.2018г. | Q3: (тыс. тонн)
A4: Наименование городского округа и муниципального района | B4: Все категории хозяйств | F4: в том числе | R4: Причины не исполнения прогноза
F5: Сельхозпредприятия | J5: ЛПХ | N5: КФХ и ИП
B6: 2018 год прогноз | C6: Факт за отчетный период | D6: % выпол-нения | E6: Темп роста к соответствующему периоду предыдущего года, % | F6: 2018 год прогноз | G6: Факт за отчетный период | H6: % выпол-нения | I6: Темп роста к соответствующему периоду предыдущего года, % | J6: 2018 год прогноз | K6: Факт за отчетный период | L6: % выпол-нения | M6: Темп роста к соответствующему периоду предыдущего года, % | N6: 2018 год прогноз | O6: Факт за отчетный период | P6: % выпол-нения | Q6: Темп роста к соответствующему периоду предыдущего года, %
A7: ='Таблица 5 овощи'!$A$7 -> Выселковский | B7: =SUM(F7+J7+N7) -> 16.9 | C7: =SUM(G7+K7+O7) -> 12.659 | D7: =C7/B7*100 -> 74.905325 | E7: 77.1 | F7: 1.86 | G7: 1.052 | H7: =G7/F7*100 -> 56.55914 | I7: 73.1 | J7: 14.535 | K7: 11.2 | L7: =K7/J7*100 -> 77.055384 | M7: 77.2 | N7: 0.505 | O7: 0.407 | P7: =O7/N7*100 -> 80.594059 | Q7: 85.7

Sheet Лист1

Sheet Лист2
